BEGIN:VCALENDAR
VERSION:2.0
PRODID:-//Syndicat National des Pompiers Professionnels du Luxembourg - ECPv5.0.3.1//NONSGML v1.0//EN
CALSCALE:GREGORIAN
METHOD:PUBLISH
X-WR-CALNAME:Syndicat National des Pompiers Professionnels du Luxembourg
X-ORIGINAL-URL:https://snppl.lu
X-WR-CALDESC:Veranstaltungen für Syndicat National des Pompiers Professionnels du Luxembourg
BEGIN:VTIMEZONE
TZID:Europe/Luxembourg
BEGIN:DAYLIGHT
TZOFFSETFROM:+0100
TZOFFSETTO:+0200
TZNAME:CEST
DTSTART:20190331T010000
END:DAYLIGHT
BEGIN:STANDARD
TZOFFSETFROM:+0200
TZOFFSETTO:+0100
TZNAME:CET
DTSTART:20191027T010000
END:STANDARD
END:VTIMEZONE
BEGIN:VEVENT
DTSTART;TZID=Europe/Luxembourg:20191213T090000
DTEND;TZID=Europe/Luxembourg:20191213T120000
DTSTAMP:20200426T103614
CREATED:20190416T154125Z
LAST-MODIFIED:20190416T154125Z
UID:502-1576227600-1576238400@snppl.lu
SUMMARY:Comité
DESCRIPTION:
URL:https://snppl.lu/event/comite-9/
LOCATION:Siège CGFP\, 488\, route de Longwy\, Luxemburg\, 1940\, Luxembourg
CATEGORIES:Comité Snppl
ORGANIZER;CN="SNPPL":MAILTO:info@snppl.lu
END:VEVENT
END:VCALENDAR