BEGIN:VCALENDAR
VERSION:2.0
PRODID:-//Syndicat National des Pompiers Professionnels du Luxembourg - ECPv5.5.0.1//NONSGML v1.0//EN
CALSCALE:GREGORIAN
METHOD:PUBLISH
X-WR-CALNAME:Syndicat National des Pompiers Professionnels du Luxembourg
X-ORIGINAL-URL:https://snppl.lu
X-WR-CALDESC:Veranstaltungen für Syndicat National des Pompiers Professionnels du Luxembourg
BEGIN:VTIMEZONE
TZID:Europe/Luxembourg
BEGIN:DAYLIGHT
TZOFFSETFROM:+0100
TZOFFSETTO:+0200
TZNAME:CEST
DTSTART:20210328T010000
END:DAYLIGHT
BEGIN:STANDARD
TZOFFSETFROM:+0200
TZOFFSETTO:+0100
TZNAME:CET
DTSTART:20211031T010000
END:STANDARD
END:VTIMEZONE
BEGIN:VEVENT
DTSTART;TZID=Europe/Luxembourg:20210423T090000
DTEND;TZID=Europe/Luxembourg:20210423T120000
DTSTAMP:20210420T232228
CREATED:20201230T103939Z
LAST-MODIFIED:20201230T103939Z
UID:1037-1619168400-1619179200@snppl.lu
SUMMARY:comité
DESCRIPTION:
URL:https://snppl.lu/event/comite-23/
LOCATION:Siège CGFP\, 488\, route de Longwy\, Luxemburg\, 1940\, Luxembourg
ORGANIZER;CN="SNPPL":MAILTO:info@snppl.lu
END:VEVENT
END:VCALENDAR